BEGIN:VCALENDAR
VERSION:2.0
PRODID:-//Plone.org//NONSGML plone.app.event//EN
X-WR-TIMEZONE:Europe/Rome
BEGIN:VEVENT
SUMMARY:A careers perspective on entrepreneurship (Cup of Tea). Seminar on
  Thursday\, November 21th\, 2024
DTSTART;TZID=Europe/Rome;VALUE=DATE-TIME:20241121T123000
DTEND;TZID=Europe/Rome;VALUE=DATE-TIME:20241121T133000
DTSTAMP;VALUE=DATE-TIME:20260421T050443Z
UID:c923aa11457348c5862a1141853ed6a1@scienzeaziendali.unibo.it
CREATED;VALUE=DATE-TIME:20241118T124429Z
DESCRIPTION:Dr. Azzurra Meoli from Department of Management (Bologna). The
  seminar is reserved to Department of Management.
LAST-MODIFIED;VALUE=DATE-TIME:20241118T124734Z
URL:https://scienzeaziendali.unibo.it/en/events/a-careers-perspective-on-e
 ntrepreneurship-cup-of-tea-seminar-on-thursday-november-21th-2024
END:VEVENT
BEGIN:VTIMEZONE
TZID:Europe/Rome
X-LIC-LOCATION:Europe/Rome
BEGIN:STANDARD
DTSTART;VALUE=DATE-TIME:20241027T020000
TZNAME:CET
TZOFFSETFROM:+0200
TZOFFSETTO:+0100
END:STANDARD
END:VTIMEZONE
END:VCALENDAR
