BEGIN:VCALENDAR
VERSION:2.0
PRODID:-//Plone.org//NONSGML plone.app.event//EN
X-WR-TIMEZONE:Europe/Rome
BEGIN:VEVENT
SUMMARY:A climate scenario analysis for the European SME lending market ba
 sed on the NGFS projections. Seminar on Wednesday\, April 2th\, 2025
DTSTART;TZID=Europe/Rome;VALUE=DATE-TIME:20250402T130000
DTEND;TZID=Europe/Rome;VALUE=DATE-TIME:20250402T140000
DTSTAMP;VALUE=DATE-TIME:20260421T050443Z
UID:0ff385a231a6464db3ac9269708dd1f9@scienzeaziendali.unibo.it
CREATED;VALUE=DATE-TIME:20241125T114300Z
DESCRIPTION:Raffaella Calabrese - Professor of Statistics and Data Science
  at the University of Edinburgh Business School (United Kingdom). The semi
 nar is reserved to Department of Management.
LAST-MODIFIED;VALUE=DATE-TIME:20250327T105821Z
URL:https://scienzeaziendali.unibo.it/en/events/a-climate-scenario-analysi
 s-for-the-european-sme-lending-market-based-on-the-ngfs-projections-semina
 r-on-friday-december-13th-2024
END:VEVENT
BEGIN:VTIMEZONE
TZID:Europe/Rome
X-LIC-LOCATION:Europe/Rome
BEGIN:DAYLIGHT
DTSTART;VALUE=DATE-TIME:20250330T030000
TZNAME:CEST
TZOFFSETFROM:+0100
TZOFFSETTO:+0200
END:DAYLIGHT
END:VTIMEZONE
END:VCALENDAR
