BEGIN:VCALENDAR
VERSION:2.0
PRODID:-//Plone.org//NONSGML plone.app.event//EN
X-WR-TIMEZONE:Europe/Rome
BEGIN:VEVENT
SUMMARY:Business\, finance\, and strategies: tools for sustainability
DTSTART;TZID=Europe/Rome;VALUE=DATE-TIME:20250926T183000
DTEND;TZID=Europe/Rome;VALUE=DATE-TIME:20250926T233000
DTSTAMP;VALUE=DATE-TIME:20260421T035436Z
UID:413bfcb4478042a7b86274e69b7fc4ea@scienzeaziendali.unibo.it
CREATED;VALUE=DATE-TIME:20250924T120621Z
DESCRIPTION:As part of the European Researchers' Night 2025
LAST-MODIFIED;VALUE=DATE-TIME:20250924T120831Z
URL:https://scienzeaziendali.unibo.it/en/events/business-finance-and-strat
 egies-tools-for-sustainability
END:VEVENT
BEGIN:VTIMEZONE
TZID:Europe/Rome
X-LIC-LOCATION:Europe/Rome
BEGIN:DAYLIGHT
DTSTART;VALUE=DATE-TIME:20250330T030000
TZNAME:CEST
TZOFFSETFROM:+0100
TZOFFSETTO:+0200
END:DAYLIGHT
END:VTIMEZONE
END:VCALENDAR
