BEGIN:VCALENDAR
VERSION:2.0
PRODID:-//Plone.org//NONSGML plone.app.event//EN
X-WR-TIMEZONE:Europe/Rome
BEGIN:VEVENT
SUMMARY:My Cup of Tea - Competition in uncertain environments - Seminar on
  Wednesday\, March 6th\, 2024
DTSTART;TZID=Europe/Rome;VALUE=DATE-TIME:20240306T123000
DTEND;TZID=Europe/Rome;VALUE=DATE-TIME:20240306T133000
DTSTAMP;VALUE=DATE-TIME:20260421T064808Z
UID:3c46036c77184775acdc50ef40e87a7a@scienzeaziendali.unibo.it
CREATED;VALUE=DATE-TIME:20240306T084901Z
DESCRIPTION:Claudio Giachetti - Professor of Strategy at Department of Man
 agement. The seminar is reserved to Department of Management.
LAST-MODIFIED;VALUE=DATE-TIME:20240306T085420Z
URL:https://scienzeaziendali.unibo.it/en/events/competition-in-uncertain-e
 nvironments-seminar-on-wednesday-march-6th-2024
END:VEVENT
BEGIN:VTIMEZONE
TZID:Europe/Rome
X-LIC-LOCATION:Europe/Rome
BEGIN:STANDARD
DTSTART;VALUE=DATE-TIME:20231029T020000
TZNAME:CET
TZOFFSETFROM:+0200
TZOFFSETTO:+0100
END:STANDARD
END:VTIMEZONE
END:VCALENDAR
