BEGIN:VCALENDAR
VERSION:2.0
PRODID:-//Plone.org//NONSGML plone.app.event//EN
X-WR-TIMEZONE:Europe/Rome
BEGIN:VEVENT
SUMMARY:Cross-border spillover effects of corporate taxes. Seminar on Tues
 day\, April 22th\, 2025
DTSTART;TZID=Europe/Rome;VALUE=DATE-TIME:20250422T120000
DTEND;TZID=Europe/Rome;VALUE=DATE-TIME:20250422T130000
DTSTAMP;VALUE=DATE-TIME:20260421T050515Z
UID:da4d7a279615438c97a642de48f28a9f@scienzeaziendali.unibo.it
CREATED;VALUE=DATE-TIME:20250416T072546Z
DESCRIPTION:Gaizka Ormazabal - Professor at IESE Business School (Spain). 
 The seminar is reserved to Department of Management.
LAST-MODIFIED;VALUE=DATE-TIME:20250416T074716Z
URL:https://scienzeaziendali.unibo.it/en/events/cross-border-spillover-eff
 ects-of-corporate-taxes-seminar-on-tuesday-april-22th-2025
END:VEVENT
BEGIN:VTIMEZONE
TZID:Europe/Rome
X-LIC-LOCATION:Europe/Rome
BEGIN:DAYLIGHT
DTSTART;VALUE=DATE-TIME:20250330T030000
TZNAME:CEST
TZOFFSETFROM:+0100
TZOFFSETTO:+0200
END:DAYLIGHT
END:VTIMEZONE
END:VCALENDAR
