BEGIN:VCALENDAR
VERSION:2.0
PRODID:-//Plone.org//NONSGML plone.app.event//EN
X-WR-TIMEZONE:Europe/Rome
BEGIN:VEVENT
SUMMARY:Do Firms Benefit from Carbon Risk Management? Evidence from the Cr
 edit Default Swaps Market
DTSTART;TZID=Europe/Rome;VALUE=DATE-TIME:20220524T130000
DTEND;TZID=Europe/Rome;VALUE=DATE-TIME:20220524T140000
DTSTAMP;VALUE=DATE-TIME:20260419T195428Z
UID:a7f4ea444ad146c098c80fb03f7eb0ff@scienzeaziendali.unibo.it
CREATED;VALUE=DATE-TIME:20220504T134518Z
DESCRIPTION:Authors: Huu Nhan Duong\, Petko S. Kalev\, Madhu Kalimipalli\,
  and Saurabh Trivedi
LAST-MODIFIED;VALUE=DATE-TIME:20220504T135204Z
URL:https://scienzeaziendali.unibo.it/en/events/do-firms-benefit-from-carb
 on-risk-management-evidence-from-the-credit-default-swaps-market
END:VEVENT
BEGIN:VTIMEZONE
TZID:Europe/Rome
X-LIC-LOCATION:Europe/Rome
BEGIN:DAYLIGHT
DTSTART;VALUE=DATE-TIME:20220327T030000
TZNAME:CEST
TZOFFSETFROM:+0100
TZOFFSETTO:+0200
END:DAYLIGHT
END:VTIMEZONE
END:VCALENDAR
