BEGIN:VCALENDAR
VERSION:2.0
PRODID:-//Plone.org//NONSGML plone.app.event//EN
X-WR-TIMEZONE:Europe/Rome
BEGIN:VEVENT
SUMMARY:Don’t Pitch the Deal: Anchoring Bias in Early Stage Investor Pit
 ches. Seminar on Monday\, January 27th\, 2025
DTSTART;TZID=Europe/Rome;VALUE=DATE-TIME:20250127T150000
DTEND;TZID=Europe/Rome;VALUE=DATE-TIME:20250127T153000
DTSTAMP;VALUE=DATE-TIME:20260421T050539Z
UID:01ab7ea297a0490483bbdfaa9dc3d8b6@scienzeaziendali.unibo.it
CREATED;VALUE=DATE-TIME:20250121T163703Z
DESCRIPTION:Professor Scott Shane from Weatherhead School of Management (O
 HIO - United States of America). The seminar is reserved to Department of 
 Management.
LAST-MODIFIED;VALUE=DATE-TIME:20250121T164110Z
URL:https://scienzeaziendali.unibo.it/en/events/don-t-pitch-the-deal-ancho
 ring-bias-in-early-stage-investor-pitches-seminar-on-monday-january-27th-2
 025
END:VEVENT
BEGIN:VTIMEZONE
TZID:Europe/Rome
X-LIC-LOCATION:Europe/Rome
BEGIN:STANDARD
DTSTART;VALUE=DATE-TIME:20241027T020000
TZNAME:CET
TZOFFSETFROM:+0200
TZOFFSETTO:+0100
END:STANDARD
END:VTIMEZONE
END:VCALENDAR
