BEGIN:VCALENDAR
VERSION:2.0
PRODID:-//Plone.org//NONSGML plone.app.event//EN
X-WR-TIMEZONE:Europe/Rome
BEGIN:VEVENT
SUMMARY:Exploring the Interaction Between Television and Branded Search Ad
 vertising: Implications for Real-Time Syncing Strategies. Seminar on Tuesd
 ay\, February 4th\, 2025
DTSTART;TZID=Europe/Rome;VALUE=DATE-TIME:20250204T130000
DTEND;TZID=Europe/Rome;VALUE=DATE-TIME:20250204T140000
DTSTAMP;VALUE=DATE-TIME:20260421T035436Z
UID:6eeaabb677b44018a7407989cf8b9cd7@scienzeaziendali.unibo.it
CREATED;VALUE=DATE-TIME:20250122T095459Z
DESCRIPTION:Prof. Ivan Guitart from Emlyon Business School of Lyon (France
 ). The seminar is reserved to Department of Management.
LAST-MODIFIED;VALUE=DATE-TIME:20250122T111844Z
URL:https://scienzeaziendali.unibo.it/en/events/exploring-the-interaction-
 between-television-and-branded-search-advertising-implications-for-real-ti
 me-syncing-strategies-seminar-on-tuesday-february-4th-2025
END:VEVENT
BEGIN:VTIMEZONE
TZID:Europe/Rome
X-LIC-LOCATION:Europe/Rome
BEGIN:STANDARD
DTSTART;VALUE=DATE-TIME:20241027T020000
TZNAME:CET
TZOFFSETFROM:+0200
TZOFFSETTO:+0100
END:STANDARD
END:VTIMEZONE
END:VCALENDAR
