BEGIN:VCALENDAR
VERSION:2.0
PRODID:-//Plone.org//NONSGML plone.app.event//EN
X-WR-TIMEZONE:Europe/Rome
BEGIN:VEVENT
SUMMARY:Industry-policy insights: second seminar.
DTSTART;TZID=Europe/Rome;VALUE=DATE-TIME:20220621T130000
DTEND;TZID=Europe/Rome;VALUE=DATE-TIME:20220621T140000
DTSTAMP;VALUE=DATE-TIME:20260420T112944Z
UID:cd2f9e2cf990425e80f6c1d02c4ea178@scienzeaziendali.unibo.it
CREATED;VALUE=DATE-TIME:20220620T093914Z
DESCRIPTION:With Fabian Mazza
LAST-MODIFIED;VALUE=DATE-TIME:20220620T094404Z
URL:https://scienzeaziendali.unibo.it/en/events/industry-policy-insights-s
 econd-seminar
END:VEVENT
BEGIN:VTIMEZONE
TZID:Europe/Rome
X-LIC-LOCATION:Europe/Rome
BEGIN:DAYLIGHT
DTSTART;VALUE=DATE-TIME:20220327T030000
TZNAME:CEST
TZOFFSETFROM:+0100
TZOFFSETTO:+0200
END:DAYLIGHT
END:VTIMEZONE
END:VCALENDAR
