BEGIN:VCALENDAR
VERSION:2.0
PRODID:-//Plone.org//NONSGML plone.app.event//EN
X-WR-TIMEZONE:Europe/Rome
BEGIN:VEVENT
SUMMARY:KT Soft Skills - Final event
DTSTART;TZID=Europe/Rome;VALUE=DATE-TIME:20251030T140000
DTEND;TZID=Europe/Rome;VALUE=DATE-TIME:20251030T183000
DTSTAMP;VALUE=DATE-TIME:20260420T235207Z
UID:f56480eab95f402b82f38a6253b3cba2@scienzeaziendali.unibo.it
CREATED;VALUE=DATE-TIME:20251007T121534Z
DESCRIPTION:Soft Skills for Knowledge Transfer: Erasmus+ project
LAST-MODIFIED;VALUE=DATE-TIME:20251023T104849Z
URL:https://scienzeaziendali.unibo.it/en/events/kt-soft-skills-final-event
END:VEVENT
BEGIN:VTIMEZONE
TZID:Europe/Rome
X-LIC-LOCATION:Europe/Rome
BEGIN:STANDARD
DTSTART;VALUE=DATE-TIME:20251026T020000
TZNAME:CET
TZOFFSETFROM:+0200
TZOFFSETTO:+0100
END:STANDARD
END:VTIMEZONE
END:VCALENDAR
