BEGIN:VCALENDAR
VERSION:2.0
PRODID:-//Plone.org//NONSGML plone.app.event//EN
X-WR-TIMEZONE:Europe/Rome
BEGIN:VEVENT
SUMMARY:Labor Unions and the Performance of the firms: A French Micro-Data
  Panel Analysis. Seminar on Tuesday\, March 11th\, 2025
DTSTART;TZID=Europe/Rome;VALUE=DATE-TIME:20250311T130000
DTEND;TZID=Europe/Rome;VALUE=DATE-TIME:20250311T140000
DTSTAMP;VALUE=DATE-TIME:20260420T022700Z
UID:8772e4a80a8644e6b3255dd37f8280f8@scienzeaziendali.unibo.it
CREATED;VALUE=DATE-TIME:20250130T102825Z
DESCRIPTION:Fabien-Antoine Dugardin - Associate Professor of Finance at th
 e University of Lorraine (France). The seminar is reserved to Department o
 f Management.
LAST-MODIFIED;VALUE=DATE-TIME:20250130T104219Z
URL:https://scienzeaziendali.unibo.it/en/events/labor-unions-and-the-perfo
 rmance-of-the-firms-a-french-micro-data-panel-analysis-seminar-on-tuesday-
 march-11th-2025
END:VEVENT
BEGIN:VTIMEZONE
TZID:Europe/Rome
X-LIC-LOCATION:Europe/Rome
BEGIN:STANDARD
DTSTART;VALUE=DATE-TIME:20241027T020000
TZNAME:CET
TZOFFSETFROM:+0200
TZOFFSETTO:+0100
END:STANDARD
END:VTIMEZONE
END:VCALENDAR
