BEGIN:VCALENDAR
VERSION:2.0
PRODID:-//Plone.org//NONSGML plone.app.event//EN
X-WR-TIMEZONE:Europe/Rome
BEGIN:VEVENT
SUMMARY:Mandatory Pay Range Disclosures in Job Postings – Early Evidence
 . Seminar on Tuesday\, November 4th 2025
DTSTART;TZID=Europe/Rome;VALUE=DATE-TIME:20251104T120000
DTEND;TZID=Europe/Rome;VALUE=DATE-TIME:20251104T130000
DTSTAMP;VALUE=DATE-TIME:20260420T235524Z
UID:b70f0ffcd09647bfa3fe9c12b2a7be9f@scienzeaziendali.unibo.it
CREATED;VALUE=DATE-TIME:20251028T092845Z
DESCRIPTION:Professor Edith Leung of Accounting at Tilburg University (The
  Netherlands). The seminar is reserved to Department of Management.
LAST-MODIFIED;VALUE=DATE-TIME:20251028T100140Z
URL:https://scienzeaziendali.unibo.it/en/events/mandatory-pay-range-disclo
 sures-in-job-postings-early-evidence-seminar-on-tuesday-november-4th-2025
END:VEVENT
BEGIN:VTIMEZONE
TZID:Europe/Rome
X-LIC-LOCATION:Europe/Rome
BEGIN:STANDARD
DTSTART;VALUE=DATE-TIME:20251026T020000
TZNAME:CET
TZOFFSETFROM:+0200
TZOFFSETTO:+0100
END:STANDARD
END:VTIMEZONE
END:VCALENDAR
