BEGIN:VCALENDAR
VERSION:2.0
PRODID:-//Plone.org//NONSGML plone.app.event//EN
X-WR-TIMEZONE:Europe/Rome
BEGIN:VEVENT
SUMMARY:Mentally Paid\, Psychologically Owned: The Connection Between Paym
 ent Option Salience and Purchase Likelihood. Seminar on Tuesday\, February
  27th\, 2024
DTSTART;TZID=Europe/Rome;VALUE=DATE-TIME:20240227T130000
DTEND;TZID=Europe/Rome;VALUE=DATE-TIME:20240227T140000
DTSTAMP;VALUE=DATE-TIME:20260421T064731Z
UID:ca6fbe52088c49c99ae4c1f449ae33fc@scienzeaziendali.unibo.it
CREATED;VALUE=DATE-TIME:20240222T162417Z
DESCRIPTION:Deniz Lefkeli - Assistant Professor of Marketing at Luiss Guid
 o Carli University of Rome. The seminar is reserved to Department of Manag
 ement.
LAST-MODIFIED;VALUE=DATE-TIME:20240222T163554Z
URL:https://scienzeaziendali.unibo.it/en/events/mentally-paid-psychologica
 lly-owned-the-connection-between-payment-option-salience-and-purchase-like
 lihood-seminar-on-tuesday-february-27th-2024
END:VEVENT
BEGIN:VTIMEZONE
TZID:Europe/Rome
X-LIC-LOCATION:Europe/Rome
BEGIN:STANDARD
DTSTART;VALUE=DATE-TIME:20231029T020000
TZNAME:CET
TZOFFSETFROM:+0200
TZOFFSETTO:+0100
END:STANDARD
END:VTIMEZONE
END:VCALENDAR
