BEGIN:VCALENDAR
VERSION:2.0
PRODID:-//Plone.org//NONSGML plone.app.event//EN
X-WR-TIMEZONE:Europe/Rome
BEGIN:VEVENT
SUMMARY:Mitigation and adaptation to climate risk: what scenery for Emilia
 -Romagna companies? Seminar on Thursday\, April 17th\, 2025
DTSTART;TZID=Europe/Rome;VALUE=DATE-TIME:20250417T143000
DTEND;TZID=Europe/Rome;VALUE=DATE-TIME:20250417T183000
DTSTAMP;VALUE=DATE-TIME:20260421T050447Z
UID:e244e9bb64624284af25a15934dc6fab@scienzeaziendali.unibo.it
CREATED;VALUE=DATE-TIME:20250415T153055Z
DESCRIPTION:Various Professor of Bologna University and representatives of
  Banca d’Italia\, Unipol\, Regione Emilia-Romagna e Ordine Commercialist
 i. The event is open to all interesting.
LAST-MODIFIED;VALUE=DATE-TIME:20250415T155942Z
URL:https://scienzeaziendali.unibo.it/en/events/mitigazione-e-adattamento-
 al-rischio-climatico-quale-scenario-per-le-imprese-dell-emilia-romagna-sem
 inar-on-thursday-del-giovedi-17-aprile-2025
END:VEVENT
BEGIN:VTIMEZONE
TZID:Europe/Rome
X-LIC-LOCATION:Europe/Rome
BEGIN:DAYLIGHT
DTSTART;VALUE=DATE-TIME:20250330T030000
TZNAME:CEST
TZOFFSETFROM:+0100
TZOFFSETTO:+0200
END:DAYLIGHT
END:VTIMEZONE
END:VCALENDAR
