BEGIN:VCALENDAR
VERSION:2.0
PRODID:-//Plone.org//NONSGML plone.app.event//EN
X-WR-TIMEZONE:Europe/Rome
BEGIN:VEVENT
SUMMARY:Nimble Banks. Seminar on Tuesday\, November 18th\, 2025
DTSTART;TZID=Europe/Rome;VALUE=DATE-TIME:20251118T114500
DTEND;TZID=Europe/Rome;VALUE=DATE-TIME:20251118T131500
DTSTAMP;VALUE=DATE-TIME:20260420T235501Z
UID:6dc8e1e692d14e12aff3337e81ffba89@scienzeaziendali.unibo.it
CREATED;VALUE=DATE-TIME:20251030T145921Z
DESCRIPTION:Professor Wolf Wagner from the Rotterdam School of Management\
 , Erasmus University (The Netherlands). The seminar is reserved to Departm
 ent of Management.
LAST-MODIFIED;VALUE=DATE-TIME:20251118T083320Z
URL:https://scienzeaziendali.unibo.it/en/events/nimble-banks-seminar-on-tu
 esday-november-18th-2025
END:VEVENT
BEGIN:VTIMEZONE
TZID:Europe/Rome
X-LIC-LOCATION:Europe/Rome
BEGIN:STANDARD
DTSTART;VALUE=DATE-TIME:20251026T020000
TZNAME:CET
TZOFFSETFROM:+0200
TZOFFSETTO:+0100
END:STANDARD
END:VTIMEZONE
END:VCALENDAR
