BEGIN:VCALENDAR
VERSION:2.0
PRODID:-//Plone.org//NONSGML plone.app.event//EN
X-WR-TIMEZONE:Europe/Rome
BEGIN:VEVENT
SUMMARY:PhD programmes: pathways\, tools\, and opportunities
DTSTART;TZID=Europe/Rome;VALUE=DATE-TIME:20250226T103000
DTEND;TZID=Europe/Rome;VALUE=DATE-TIME:20250226T113000
DTSTAMP;VALUE=DATE-TIME:20260421T020315Z
UID:dfc77e8de76b4347bee754bedf53b580@scienzeaziendali.unibo.it
CREATED;VALUE=DATE-TIME:20250205T085120Z
DESCRIPTION:The online event to explore this opportunity to enhance your e
 ducation and embark on a research journey. The event will be held in Itali
 an.
LAST-MODIFIED;VALUE=DATE-TIME:20250205T085258Z
URL:https://scienzeaziendali.unibo.it/en/events/phd-programmes-pathways-to
 ols-and-opportunities
END:VEVENT
BEGIN:VTIMEZONE
TZID:Europe/Rome
X-LIC-LOCATION:Europe/Rome
BEGIN:STANDARD
DTSTART;VALUE=DATE-TIME:20241027T020000
TZNAME:CET
TZOFFSETFROM:+0200
TZOFFSETTO:+0100
END:STANDARD
END:VTIMEZONE
END:VCALENDAR
