BEGIN:VCALENDAR
VERSION:2.0
PRODID:-//Plone.org//NONSGML plone.app.event//EN
X-WR-TIMEZONE:Europe/Rome
BEGIN:VEVENT
SUMMARY:Prof. Pierangelo Rosati (DCU Business School) Data analytics using
  R (2)
DTSTART;TZID=Europe/Rome;VALUE=DATE-TIME:20211213T140000
DTEND;TZID=Europe/Rome;VALUE=DATE-TIME:20211213T170000
DTSTAMP;VALUE=DATE-TIME:20260423T131821Z
UID:ee227a5d83324f6a843ec4e0fac6a181@scienzeaziendali.unibo.it
CREATED;VALUE=DATE-TIME:20211124T122112Z
DESCRIPTION:Training Seminar "light blue"
LAST-MODIFIED;VALUE=DATE-TIME:20211124T122112Z
URL:https://scienzeaziendali.unibo.it/en/events/prof-pierangelo-rosati-dcu
 -business-school-data-analytics-using-r-2
END:VEVENT
BEGIN:VTIMEZONE
TZID:Europe/Rome
X-LIC-LOCATION:Europe/Rome
BEGIN:STANDARD
DTSTART;VALUE=DATE-TIME:20211031T020000
TZNAME:CET
TZOFFSETFROM:+0200
TZOFFSETTO:+0100
END:STANDARD
END:VTIMEZONE
END:VCALENDAR
