BEGIN:VCALENDAR
VERSION:2.0
PRODID:-//Plone.org//NONSGML plone.app.event//EN
X-WR-TIMEZONE:Europe/Rome
BEGIN:VEVENT
SUMMARY:Prof. Santi Furnari (Cass Business School\, UK) Seminar on QCA - F
 riday\, March 4th\, 2022
DTSTART;TZID=Europe/Rome;VALUE=DATE-TIME:20220304T140000
DTEND;TZID=Europe/Rome;VALUE=DATE-TIME:20220304T170000
DTSTAMP;VALUE=DATE-TIME:20260423T015030Z
UID:24b509d056cb4592a1d8d10e8e5c40aa@scienzeaziendali.unibo.it
CREATED;VALUE=DATE-TIME:20211014T141442Z
DESCRIPTION:Training seminar "light blue"
LAST-MODIFIED;VALUE=DATE-TIME:20211014T144310Z
URL:https://scienzeaziendali.unibo.it/en/events/prof-santi-furnari-cass-bu
 siness-school-uk-seminar-on-qca-friday-march-4th-2022
END:VEVENT
BEGIN:VTIMEZONE
TZID:Europe/Rome
X-LIC-LOCATION:Europe/Rome
BEGIN:STANDARD
DTSTART;VALUE=DATE-TIME:20211031T020000
TZNAME:CET
TZOFFSETFROM:+0200
TZOFFSETTO:+0100
END:STANDARD
END:VTIMEZONE
END:VCALENDAR
