BEGIN:VCALENDAR
VERSION:2.0
PRODID:-//Plone.org//NONSGML plone.app.event//EN
X-WR-TIMEZONE:Europe/Rome
BEGIN:VEVENT
SUMMARY:Reading Group in Accounting\, Banking and Finance - Local IPOs and
  household stock market participation. Seminar on Monday\, March 3th\, 202
 5
DTSTART;TZID=Europe/Rome;VALUE=DATE-TIME:20250303T140000
DTEND;TZID=Europe/Rome;VALUE=DATE-TIME:20250303T150000
DTSTAMP;VALUE=DATE-TIME:20260421T035547Z
UID:5f81071f61424a779323b914c4234749@scienzeaziendali.unibo.it
CREATED;VALUE=DATE-TIME:20250214T104129Z
DESCRIPTION:Lorenzo Danieli - 2nd-year PhD student in Finance on Departmen
 t of Management. The seminar is reserved to Department.
LAST-MODIFIED;VALUE=DATE-TIME:20250214T115029Z
URL:https://scienzeaziendali.unibo.it/en/events/reading-group-in-accountin
 g-banking-and-finance-local-ipos-and-household-stock-market-participation-
 seminar-on-monday-march-3th-2025
END:VEVENT
BEGIN:VTIMEZONE
TZID:Europe/Rome
X-LIC-LOCATION:Europe/Rome
BEGIN:STANDARD
DTSTART;VALUE=DATE-TIME:20241027T020000
TZNAME:CET
TZOFFSETFROM:+0200
TZOFFSETTO:+0100
END:STANDARD
END:VTIMEZONE
END:VCALENDAR
