BEGIN:VCALENDAR
VERSION:2.0
PRODID:-//Plone.org//NONSGML plone.app.event//EN
X-WR-TIMEZONE:Europe/Rome
BEGIN:VEVENT
SUMMARY:Research on the use of financial and non-financial information by 
 politicians: key findings and future directions. Seminar on Tuesday\, Febr
 uary 25th\, 2025
DTSTART;TZID=Europe/Rome;VALUE=DATE-TIME:20250225T130000
DTEND;TZID=Europe/Rome;VALUE=DATE-TIME:20250225T140000
DTSTAMP;VALUE=DATE-TIME:20260421T035547Z
UID:98032b13e13846ae8cc6c9f4e60f2c8b@scienzeaziendali.unibo.it
CREATED;VALUE=DATE-TIME:20250206T085800Z
DESCRIPTION:Susana Jorge - Associate Professor with habilitation at the Fa
 culty of Economics\, University of Coimbra (Portugal). The seminar is rese
 rved to Department of Management.
LAST-MODIFIED;VALUE=DATE-TIME:20250206T091337Z
URL:https://scienzeaziendali.unibo.it/en/events/research-on-the-use-of-fin
 ancial-and-non-financial-information-by-politicians-key-findings-and-futur
 e-directions-seminar-on-tuesday-february-25th-2025
END:VEVENT
BEGIN:VTIMEZONE
TZID:Europe/Rome
X-LIC-LOCATION:Europe/Rome
BEGIN:STANDARD
DTSTART;VALUE=DATE-TIME:20241027T020000
TZNAME:CET
TZOFFSETFROM:+0200
TZOFFSETTO:+0100
END:STANDARD
END:VTIMEZONE
END:VCALENDAR
