BEGIN:VCALENDAR
VERSION:2.0
PRODID:-//Plone.org//NONSGML plone.app.event//EN
X-WR-TIMEZONE:Europe/Rome
BEGIN:VEVENT
SUMMARY:Research Seminar - Dr. Denise Falchetti - Research Fellow of the D
 epartment of Management - Tuesday\, 5 October 2021
DTSTART;TZID=Europe/Rome;VALUE=DATE-TIME:20211005T130000
DTEND;TZID=Europe/Rome;VALUE=DATE-TIME:20211005T140000
DTSTAMP;VALUE=DATE-TIME:20260419T140849Z
UID:2ac7134e30724c728e4e1a61b1042ce8@scienzeaziendali.unibo.it
CREATED;VALUE=DATE-TIME:20210928T154723Z
DESCRIPTION:Internal Research Seminar P8 - Green. Presentation of Paper: W
 hen money isn't everything.
LAST-MODIFIED;VALUE=DATE-TIME:20210929T083709Z
URL:https://scienzeaziendali.unibo.it/en/events/research-seminar-dr-denise
 -falchetti-research-fellow-of-the-department-of-management-tuesday-5-octob
 er-2021
END:VEVENT
BEGIN:VTIMEZONE
TZID:Europe/Rome
X-LIC-LOCATION:Europe/Rome
BEGIN:DAYLIGHT
DTSTART;VALUE=DATE-TIME:20210328T030000
TZNAME:CEST
TZOFFSETFROM:+0100
TZOFFSETTO:+0200
END:DAYLIGHT
END:VTIMEZONE
END:VCALENDAR
