BEGIN:VCALENDAR
VERSION:2.0
PRODID:-//Plone.org//NONSGML plone.app.event//EN
X-WR-TIMEZONE:Europe/Rome
BEGIN:VEVENT
SUMMARY:Reunion Alumni MES
DTSTART;TZID=Europe/Rome;VALUE=DATE-TIME:20250516T093000
DTEND;TZID=Europe/Rome;VALUE=DATE-TIME:20250516T203000
DTSTAMP;VALUE=DATE-TIME:20260421T020534Z
UID:bdf913a7f81e41bd8e8ee073e63c1950@scienzeaziendali.unibo.it
CREATED;VALUE=DATE-TIME:20250410T075710Z
DESCRIPTION:Thefirst Reunion of the master's degree program in Social Econ
 omy Management (MES) of the Department of Management at the University of 
 Bologna.
LAST-MODIFIED;VALUE=DATE-TIME:20250417T091659Z
URL:https://scienzeaziendali.unibo.it/en/events/reunion-alumni-mes
END:VEVENT
BEGIN:VTIMEZONE
TZID:Europe/Rome
X-LIC-LOCATION:Europe/Rome
BEGIN:DAYLIGHT
DTSTART;VALUE=DATE-TIME:20250330T030000
TZNAME:CEST
TZOFFSETFROM:+0100
TZOFFSETTO:+0200
END:DAYLIGHT
END:VTIMEZONE
END:VCALENDAR
