BEGIN:VCALENDAR
VERSION:2.0
PRODID:-//Plone.org//NONSGML plone.app.event//EN
X-WR-TIMEZONE:Europe/Rome
BEGIN:VEVENT
SUMMARY:Seminar Series on International Taxation and Business Strategies. 
 Seminar on Wednesday\, April 9th\, 2025
DTSTART;TZID=Europe/Rome;VALUE=DATE-TIME:20250409T150000
DTEND;TZID=Europe/Rome;VALUE=DATE-TIME:20250409T180000
DTSTAMP;VALUE=DATE-TIME:20260421T050540Z
UID:205e25cb277f47609a824d9f48df19da@scienzeaziendali.unibo.it
CREATED;VALUE=DATE-TIME:20250403T140307Z
DESCRIPTION:In collaboration with EY Studio Legale e Tributario. The semin
 ar series is free\, open to all and subject to registration.
LAST-MODIFIED;VALUE=DATE-TIME:20250403T143904Z
URL:https://scienzeaziendali.unibo.it/en/events/seminar-series-on-internat
 ional-taxation-and-business-strategies-seminar-on-wednesday-april-9th-2025
END:VEVENT
BEGIN:VTIMEZONE
TZID:Europe/Rome
X-LIC-LOCATION:Europe/Rome
BEGIN:DAYLIGHT
DTSTART;VALUE=DATE-TIME:20250330T030000
TZNAME:CEST
TZOFFSETFROM:+0100
TZOFFSETTO:+0200
END:DAYLIGHT
END:VTIMEZONE
END:VCALENDAR
