BEGIN:VCALENDAR
VERSION:2.0
PRODID:-//Plone.org//NONSGML plone.app.event//EN
X-WR-TIMEZONE:Europe/Rome
BEGIN:VEVENT
SUMMARY:Tax Policy Expectations and Investment. Reading group in Accountin
 g\, Banking and Finance on Thursday\, November 14th\, 2024
DTSTART;TZID=Europe/Rome;VALUE=DATE-TIME:20241114T140000
DTEND;TZID=Europe/Rome;VALUE=DATE-TIME:20241114T150000
DTSTAMP;VALUE=DATE-TIME:20260421T050515Z
UID:76a2a8a1222a440c84252c2816f46911@scienzeaziendali.unibo.it
CREATED;VALUE=DATE-TIME:20241024T150456Z
DESCRIPTION:Noemi Pecoraro - 2nd-year PhD student in Accounting on Departm
 ent of Management. The seminar is reserved to Department of Management.
LAST-MODIFIED;VALUE=DATE-TIME:20241024T153720Z
URL:https://scienzeaziendali.unibo.it/en/events/tax-policy-expectations-an
 d-investment-reading-group-in-accounting-banking-and-finance-on-thursday-n
 ovember-14th-2024
END:VEVENT
BEGIN:VTIMEZONE
TZID:Europe/Rome
X-LIC-LOCATION:Europe/Rome
BEGIN:STANDARD
DTSTART;VALUE=DATE-TIME:20241027T020000
TZNAME:CET
TZOFFSETFROM:+0200
TZOFFSETTO:+0100
END:STANDARD
END:VTIMEZONE
END:VCALENDAR
