BEGIN:VCALENDAR
VERSION:2.0
PRODID:-//Plone.org//NONSGML plone.app.event//EN
X-WR-TIMEZONE:Europe/Rome
BEGIN:VEVENT
SUMMARY:TBA e The Market for Block Space: Quantifying Optimal Blockchain F
 ee Structures: Reading Group in Accounting\, Banking and Finance on Thursd
 ay\, December 12th\, 2024
DTSTART;TZID=Europe/Rome;VALUE=DATE-TIME:20241212T163000
DTEND;TZID=Europe/Rome;VALUE=DATE-TIME:20241212T183000
DTSTAMP;VALUE=DATE-TIME:20260421T050447Z
UID:6b9abe6320b841239d1765a4bfc294af@scienzeaziendali.unibo.it
CREATED;VALUE=DATE-TIME:20241204T112705Z
DESCRIPTION:Beibei Yu (PhD student)\, Luca Galati (Post-Doc) and Matteo Me
 rlo (PhD student) from Department of Management. The seminar is reserved t
 o Department of Management.
LAST-MODIFIED;VALUE=DATE-TIME:20241204T120209Z
URL:https://scienzeaziendali.unibo.it/en/events/tba-e-the-market-for-block
 -space-quantifying-optimal-blockchain-fee-structures-reading-group-in-acco
 unting-banking-and-finance-on-thursday-december-12th-2024
END:VEVENT
BEGIN:VTIMEZONE
TZID:Europe/Rome
X-LIC-LOCATION:Europe/Rome
BEGIN:STANDARD
DTSTART;VALUE=DATE-TIME:20241027T020000
TZNAME:CET
TZOFFSETFROM:+0200
TZOFFSETTO:+0100
END:STANDARD
END:VTIMEZONE
END:VCALENDAR
