BEGIN:VCALENDAR
VERSION:2.0
PRODID:-//Plone.org//NONSGML plone.app.event//EN
X-WR-TIMEZONE:Europe/Rome
BEGIN:VEVENT
SUMMARY:The Dissemination of Short-sellers' Information. Seminar on Tuesda
 y\, November\, 25th\, 2025
DTSTART;TZID=Europe/Rome;VALUE=DATE-TIME:20251125T140000
DTEND;TZID=Europe/Rome;VALUE=DATE-TIME:20251125T150000
DTSTAMP;VALUE=DATE-TIME:20260420T235550Z
UID:844c517898594855b0366c10d9be4007@scienzeaziendali.unibo.it
CREATED;VALUE=DATE-TIME:20251120T104738Z
DESCRIPTION:Paolo Colla\, Professor of Banking and Finance at Bocconi Univ
 ersity (Milano). The seminar is reserved to Department of Management.
LAST-MODIFIED;VALUE=DATE-TIME:20251120T110449Z
URL:https://scienzeaziendali.unibo.it/en/events/the-dissemination-of-short
 -sellers-information-seminar-on-tuesday-november-25th-2025
END:VEVENT
BEGIN:VTIMEZONE
TZID:Europe/Rome
X-LIC-LOCATION:Europe/Rome
BEGIN:STANDARD
DTSTART;VALUE=DATE-TIME:20251026T020000
TZNAME:CET
TZOFFSETFROM:+0200
TZOFFSETTO:+0100
END:STANDARD
END:VTIMEZONE
END:VCALENDAR
