BEGIN:VCALENDAR
VERSION:2.0
PRODID:-//Plone.org//NONSGML plone.app.event//EN
X-WR-TIMEZONE:Europe/Rome
BEGIN:VEVENT
SUMMARY:The Effects of Hype and Social Preferences on Crypto Investing. Se
 minar on Tuesday\, November 19th\, 2024
DTSTART;TZID=Europe/Rome;VALUE=DATE-TIME:20241119T130000
DTEND;TZID=Europe/Rome;VALUE=DATE-TIME:20241119T140000
DTSTAMP;VALUE=DATE-TIME:20260421T050515Z
UID:ada2f0d44d194be4a9bc22de1515e856@scienzeaziendali.unibo.it
CREATED;VALUE=DATE-TIME:20241016T093405Z
DESCRIPTION:Alberta di Giuli - Professor of Finance at ESCP Business Schoo
 l and Dean of ESCP Turin Campus. The seminar is reserved to Department of 
 Management.
LAST-MODIFIED;VALUE=DATE-TIME:20241016T093945Z
URL:https://scienzeaziendali.unibo.it/en/events/the-effects-of-hype-and-so
 cial-preferences-on-crypto-investing-seminar-on-tuesday-november-19th-2024
END:VEVENT
BEGIN:VTIMEZONE
TZID:Europe/Rome
X-LIC-LOCATION:Europe/Rome
BEGIN:STANDARD
DTSTART;VALUE=DATE-TIME:20241027T020000
TZNAME:CET
TZOFFSETFROM:+0200
TZOFFSETTO:+0100
END:STANDARD
END:VTIMEZONE
END:VCALENDAR
