BEGIN:VCALENDAR
VERSION:2.0
PRODID:-//Plone.org//NONSGML plone.app.event//EN
X-WR-TIMEZONE:Europe/Rome
BEGIN:VEVENT
SUMMARY:War in Ukraine: its Implications on Energy and Mineral Resources
DTSTART;TZID=Europe/Rome;VALUE=DATE-TIME:20220318T173000
DTEND;TZID=Europe/Rome;VALUE=DATE-TIME:20220318T183000
DTSTAMP;VALUE=DATE-TIME:20260423T001955Z
UID:fe6a9305e21843359503acf19efeb085@scienzeaziendali.unibo.it
CREATED;VALUE=DATE-TIME:20220318T080424Z
DESCRIPTION:Introduced by the Vice Rector for International Relations\, Pr
 of. Raffaella Campaner\; with the participation of prof. Daniela Cavalcoli
 \, prof. Leonardo Setti and prof. Paolo Garofalo.
LAST-MODIFIED;VALUE=DATE-TIME:20220318T081042Z
URL:https://scienzeaziendali.unibo.it/en/events/war-in-ukraine-its-implica
 tions-on-energy-and-mineral-resources
END:VEVENT
BEGIN:VTIMEZONE
TZID:Europe/Rome
X-LIC-LOCATION:Europe/Rome
BEGIN:STANDARD
DTSTART;VALUE=DATE-TIME:20211031T020000
TZNAME:CET
TZOFFSETFROM:+0200
TZOFFSETTO:+0100
END:STANDARD
END:VTIMEZONE
END:VCALENDAR
