BEGIN:VCALENDAR
VERSION:2.0
PRODID:-//Plone.org//NONSGML plone.app.event//EN
X-WR-TIMEZONE:Europe/Rome
BEGIN:VEVENT
SUMMARY:1° PRME World Tour Research Paper Development Workshop
DTSTART;TZID=Europe/Rome;VALUE=DATE-TIME:20240520T100000
DTEND;TZID=Europe/Rome;VALUE=DATE-TIME:20240520T160000
DTSTAMP;VALUE=DATE-TIME:20260423T050110Z
UID:4fe6aedddcd84598be0b0d2025810002@scienzeaziendali.unibo.it
CREATED;VALUE=DATE-TIME:20240301T091545Z
DESCRIPTION:PRME Chapter Italy
LAST-MODIFIED;VALUE=DATE-TIME:20240318T094737Z
URL:https://scienzeaziendali.unibo.it/it/eventi/1-prme-world-tour-research
 -paper-development-workshop
END:VEVENT
BEGIN:VTIMEZONE
TZID:Europe/Rome
X-LIC-LOCATION:Europe/Rome
BEGIN:DAYLIGHT
DTSTART;VALUE=DATE-TIME:20240331T030000
TZNAME:CEST
TZOFFSETFROM:+0100
TZOFFSETTO:+0200
END:DAYLIGHT
END:VTIMEZONE
END:VCALENDAR
