BEGIN:VCALENDAR
VERSION:2.0
PRODID:-//Plone.org//NONSGML plone.app.event//EN
X-WR-TIMEZONE:Europe/Rome
BEGIN:VEVENT
SUMMARY:A careers perspective on entrepreneurship (Cup ot tea) - Seminario
  del Giovedì 21 Novembre 2024
DTSTART;TZID=Europe/Rome;VALUE=DATE-TIME:20241121T123000
DTEND;TZID=Europe/Rome;VALUE=DATE-TIME:20241121T133000
DTSTAMP;VALUE=DATE-TIME:20260421T064731Z
UID:64daea6fd9224fedb0117263dd81390e@scienzeaziendali.unibo.it
CREATED;VALUE=DATE-TIME:20241118T113713Z
DESCRIPTION:Dottoressa Azzurra Meoli - Ricercatrice presso il Dipartimento
  di Scienze Aziendali di Bologna. Il seminario è riservato al personale d
 el Dipartimento di Scienze Aziendali.
LAST-MODIFIED;VALUE=DATE-TIME:20241118T124734Z
URL:https://scienzeaziendali.unibo.it/it/eventi/a-careers-perspective-on-e
 ntrepreneurship-seminario-del-giovedi-21-novembre-2024
END:VEVENT
BEGIN:VTIMEZONE
TZID:Europe/Rome
X-LIC-LOCATION:Europe/Rome
BEGIN:STANDARD
DTSTART;VALUE=DATE-TIME:20241027T020000
TZNAME:CET
TZOFFSETFROM:+0200
TZOFFSETTO:+0100
END:STANDARD
END:VTIMEZONE
END:VCALENDAR
