BEGIN:VCALENDAR
VERSION:2.0
PRODID:-//Plone.org//NONSGML plone.app.event//EN
X-WR-TIMEZONE:Europe/Rome
BEGIN:VEVENT
SUMMARY:CheMatSustain Facility
DTSTART;TZID=Europe/Rome;VALUE=DATE-TIME:20250328T100000
DTEND;TZID=Europe/Rome;VALUE=DATE-TIME:20250328T113000
DTSTAMP;VALUE=DATE-TIME:20260421T075732Z
UID:862e4719eb0b4219a4259bc752ede9bb@scienzeaziendali.unibo.it
CREATED;VALUE=DATE-TIME:20250307T090450Z
DESCRIPTION:Co-design workshop
LAST-MODIFIED;VALUE=DATE-TIME:20250307T090938Z
URL:https://scienzeaziendali.unibo.it/it/eventi/chematsustain-facility
END:VEVENT
BEGIN:VTIMEZONE
TZID:Europe/Rome
X-LIC-LOCATION:Europe/Rome
BEGIN:STANDARD
DTSTART;VALUE=DATE-TIME:20241027T020000
TZNAME:CET
TZOFFSETFROM:+0200
TZOFFSETTO:+0100
END:STANDARD
END:VTIMEZONE
END:VCALENDAR
