BEGIN:VCALENDAR
VERSION:2.0
PRODID:-//Plone.org//NONSGML plone.app.event//EN
X-WR-TIMEZONE:Europe/Rome
BEGIN:VEVENT
SUMMARY:Ciclo di seminari sulla Fiscalità Internazionale e le Strategie d
 'Impresa - Secondo incontro: Mercoledì 9 Aprile 2025
DTSTART;TZID=Europe/Rome;VALUE=DATE-TIME:20250409T150000
DTEND;TZID=Europe/Rome;VALUE=DATE-TIME:20250409T180000
DTSTAMP;VALUE=DATE-TIME:20260421T064730Z
UID:8f1a53d0fa16490f9872e287d3d5892c@scienzeaziendali.unibo.it
CREATED;VALUE=DATE-TIME:20250403T101540Z
DESCRIPTION:In collaborazione con EY Studio Legale e Tributario. Il ciclo 
 di seminari è gratuito\, aperto a tutti e soggetto a registrazione.
LAST-MODIFIED;VALUE=DATE-TIME:20250403T143904Z
URL:https://scienzeaziendali.unibo.it/it/eventi/ciclo-di-seminari-sulla-fi
 scalita-internazionale-e-le-strategie-d-impresa-secondo-incontro-mercoledi
 -9-aprile-2025
END:VEVENT
BEGIN:VTIMEZONE
TZID:Europe/Rome
X-LIC-LOCATION:Europe/Rome
BEGIN:DAYLIGHT
DTSTART;VALUE=DATE-TIME:20250330T030000
TZNAME:CEST
TZOFFSETFROM:+0100
TZOFFSETTO:+0200
END:DAYLIGHT
END:VTIMEZONE
END:VCALENDAR
