BEGIN:VCALENDAR
VERSION:2.0
PRODID:-//Plone.org//NONSGML plone.app.event//EN
X-WR-TIMEZONE:Europe/Rome
BEGIN:VEVENT
SUMMARY:My Cup of Tea - Competition in uncertain environments - Seminario 
 del Mercoledì 6 Marzo 2024
DTSTART;TZID=Europe/Rome;VALUE=DATE-TIME:20240306T123000
DTEND;TZID=Europe/Rome;VALUE=DATE-TIME:20240306T133000
DTSTAMP;VALUE=DATE-TIME:20260421T042628Z
UID:ffaef9681cc548ffb02a5e06ec931815@scienzeaziendali.unibo.it
CREATED;VALUE=DATE-TIME:20240306T083540Z
DESCRIPTION:Claudio Giachetti - Professore Ordinario di Strategia al Dipar
 timento di Scienze Aziendali. Il seminario è riservato al personale del D
 ipartimento medesimo.
LAST-MODIFIED;VALUE=DATE-TIME:20240306T085420Z
URL:https://scienzeaziendali.unibo.it/it/eventi/competition-in-uncertain-e
 nvironments-seminario-del-mercoledi-6-marzo-2024
END:VEVENT
BEGIN:VTIMEZONE
TZID:Europe/Rome
X-LIC-LOCATION:Europe/Rome
BEGIN:STANDARD
DTSTART;VALUE=DATE-TIME:20231029T020000
TZNAME:CET
TZOFFSETFROM:+0200
TZOFFSETTO:+0100
END:STANDARD
END:VTIMEZONE
END:VCALENDAR
