BEGIN:VCALENDAR
VERSION:2.0
PRODID:-//Plone.org//NONSGML plone.app.event//EN
X-WR-TIMEZONE:Europe/Rome
BEGIN:VEVENT
SUMMARY:Conceptualising and Using the Ecosystem in Public Administratio Ma
 nagement Research. Seminario del Martedì 14 Ottobre 2025
DTSTART;TZID=Europe/Rome;VALUE=DATE-TIME:20251014T110000
DTEND;TZID=Europe/Rome;VALUE=DATE-TIME:20251014T120000
DTSTAMP;VALUE=DATE-TIME:20260421T014706Z
UID:dc6f21539f1d4210bc177c5d9de80c8d@scienzeaziendali.unibo.it
CREATED;VALUE=DATE-TIME:20251007T075742Z
DESCRIPTION:Stephen Osborne - Professore alla Università di Edimburgo (Sc
 ozia). Il seminario è riservato al personale del Dipartimento di Scienze 
 Aziendali.
LAST-MODIFIED;VALUE=DATE-TIME:20251007T083109Z
URL:https://scienzeaziendali.unibo.it/it/eventi/conceptualising-and-using-
 the-ecosystem-in-public-administratio-management-research-seminario-del-ma
 rtedi-14-ottobre-2025
END:VEVENT
BEGIN:VTIMEZONE
TZID:Europe/Rome
X-LIC-LOCATION:Europe/Rome
BEGIN:DAYLIGHT
DTSTART;VALUE=DATE-TIME:20250330T030000
TZNAME:CEST
TZOFFSETFROM:+0100
TZOFFSETTO:+0200
END:DAYLIGHT
END:VTIMEZONE
END:VCALENDAR
