BEGIN:VCALENDAR
VERSION:2.0
PRODID:-//Plone.org//NONSGML plone.app.event//EN
X-WR-TIMEZONE:Europe/Rome
BEGIN:VEVENT
SUMMARY:Cross-border spillover effects of corporate taxes. Seminario del M
 artedì 22 Aprile 2025
DTSTART;TZID=Europe/Rome;VALUE=DATE-TIME:20250422T120000
DTEND;TZID=Europe/Rome;VALUE=DATE-TIME:20250422T130000
DTSTAMP;VALUE=DATE-TIME:20260421T064730Z
UID:4a19322214ac48eb83b90ac1f2b4d6d3@scienzeaziendali.unibo.it
CREATED;VALUE=DATE-TIME:20250416T071938Z
DESCRIPTION:Gaizka Ormazabal - Professor at IESE Scuola di Affari (Spagna)
 . Il seminario è riservato al personale del Dipartimento di Scienze Azien
 dali.
LAST-MODIFIED;VALUE=DATE-TIME:20250416T074716Z
URL:https://scienzeaziendali.unibo.it/it/eventi/cross-border-spillover-eff
 ects-of-corporate-taxes-seminario-del-martedi-22-aprile-2025
END:VEVENT
BEGIN:VTIMEZONE
TZID:Europe/Rome
X-LIC-LOCATION:Europe/Rome
BEGIN:DAYLIGHT
DTSTART;VALUE=DATE-TIME:20250330T030000
TZNAME:CEST
TZOFFSETFROM:+0100
TZOFFSETTO:+0200
END:DAYLIGHT
END:VTIMEZONE
END:VCALENDAR
