BEGIN:VCALENDAR
VERSION:2.0
PRODID:-//Plone.org//NONSGML plone.app.event//EN
X-WR-TIMEZONE:Europe/Rome
BEGIN:VEVENT
SUMMARY:Dallo stigma al valore: brand\, comunità e salute mentale
DTSTART;TZID=Europe/Rome;VALUE=DATE-TIME:20250926T110000
DTEND;TZID=Europe/Rome;VALUE=DATE-TIME:20250926T130000
DTSTAMP;VALUE=DATE-TIME:20260421T035432Z
UID:dc96bed8009c4c4f96948b01a27339ed@scienzeaziendali.unibo.it
CREATED;VALUE=DATE-TIME:20250923T083343Z
DESCRIPTION:Giornata Mondiale della Salute Mentale
LAST-MODIFIED;VALUE=DATE-TIME:20250923T083748Z
URL:https://scienzeaziendali.unibo.it/it/eventi/dallo-stigma-al-valore-bra
 nd-comunita-e-salute-mentale
END:VEVENT
BEGIN:VTIMEZONE
TZID:Europe/Rome
X-LIC-LOCATION:Europe/Rome
BEGIN:DAYLIGHT
DTSTART;VALUE=DATE-TIME:20250330T030000
TZNAME:CEST
TZOFFSETFROM:+0100
TZOFFSETTO:+0200
END:DAYLIGHT
END:VTIMEZONE
END:VCALENDAR
