BEGIN:VCALENDAR
VERSION:2.0
PRODID:-//Plone.org//NONSGML plone.app.event//EN
X-WR-TIMEZONE:Europe/Rome
BEGIN:VEVENT
SUMMARY:Founders’ political ideology\, scientific approach to entreprene
 urship and new venture sustainability performance: the contingent role of 
 psychological resilience. Seminario del Martedì 17 Dicembre 2024
DTSTART;TZID=Europe/Rome;VALUE=DATE-TIME:20241217T130000
DTEND;TZID=Europe/Rome;VALUE=DATE-TIME:20241217T140000
DTSTAMP;VALUE=DATE-TIME:20260421T064729Z
UID:6f0fcf01afba42ddafaf4732ef9a8fe4@scienzeaziendali.unibo.it
CREATED;VALUE=DATE-TIME:20241204T122846Z
DESCRIPTION:Tatiana Anisimova - Professoressa della Università Linneaus (
 Svezia). Il seminario è riservato al personale del Dipartimento di Scienz
 e Aziendali.
LAST-MODIFIED;VALUE=DATE-TIME:20241205T094036Z
URL:https://scienzeaziendali.unibo.it/it/eventi/founders-political-ideolog
 y-scientific-approach-to-entrepreneurship-and-new-venture-sustainability-p
 erformance-the-contingent-role-of-psychological-resilience-seminario-del-m
 artedi-17-dicembre-2024
END:VEVENT
BEGIN:VTIMEZONE
TZID:Europe/Rome
X-LIC-LOCATION:Europe/Rome
BEGIN:STANDARD
DTSTART;VALUE=DATE-TIME:20241027T020000
TZNAME:CET
TZOFFSETFROM:+0200
TZOFFSETTO:+0100
END:STANDARD
END:VTIMEZONE
END:VCALENDAR
