BEGIN:VCALENDAR
VERSION:2.0
PRODID:-//Plone.org//NONSGML plone.app.event//EN
X-WR-TIMEZONE:Europe/Rome
BEGIN:VEVENT
SUMMARY:Giornata della Ricerca DiSA - 2022
DTSTART;TZID=Europe/Rome;VALUE=DATE-TIME:20220913T100000
DTEND;TZID=Europe/Rome;VALUE=DATE-TIME:20220913T173000
DTSTAMP;VALUE=DATE-TIME:20260419T201631Z
UID:73a72dc30f8049f2aebc01ac4acbaf9a@scienzeaziendali.unibo.it
CREATED;VALUE=DATE-TIME:20220909T072608Z
DESCRIPTION:Valutazione della Ricerca: le sfide e le opportunità di oggi 
 e di domani.
LAST-MODIFIED;VALUE=DATE-TIME:20220909T105621Z
URL:https://scienzeaziendali.unibo.it/it/eventi/giornata-della-ricerca-dis
 a-2022
END:VEVENT
BEGIN:VTIMEZONE
TZID:Europe/Rome
X-LIC-LOCATION:Europe/Rome
BEGIN:DAYLIGHT
DTSTART;VALUE=DATE-TIME:20220327T030000
TZNAME:CEST
TZOFFSETFROM:+0100
TZOFFSETTO:+0200
END:DAYLIGHT
END:VTIMEZONE
END:VCALENDAR
