BEGIN:VCALENDAR
VERSION:2.0
PRODID:-//Plone.org//NONSGML plone.app.event//EN
X-WR-TIMEZONE:Europe/Rome
BEGIN:VEVENT
SUMMARY:Giornata Mondiale della Salute Mentale: tavoli di discussione
DTSTART;TZID=Europe/Rome;VALUE=DATE-TIME:20250926T110000
DTEND;TZID=Europe/Rome;VALUE=DATE-TIME:20251003T193000
DTSTAMP;VALUE=DATE-TIME:20260421T020904Z
UID:1f80683ae69d49f2b6a7c3abb950b43c@scienzeaziendali.unibo.it
CREATED;VALUE=DATE-TIME:20250924T130655Z
DESCRIPTION:Sono tre tavoli di discussione che vedono coinvolto il nostro 
 Dipartimento.
LAST-MODIFIED;VALUE=DATE-TIME:20250925T081740Z
URL:https://scienzeaziendali.unibo.it/it/eventi/giornata-mondiale-della-sa
 lute-mentale-tavoli-di-discussione
END:VEVENT
BEGIN:VTIMEZONE
TZID:Europe/Rome
X-LIC-LOCATION:Europe/Rome
BEGIN:DAYLIGHT
DTSTART;VALUE=DATE-TIME:20250330T030000
TZNAME:CEST
TZOFFSETFROM:+0100
TZOFFSETTO:+0200
END:DAYLIGHT
END:VTIMEZONE
END:VCALENDAR
