BEGIN:VCALENDAR
VERSION:2.0
PRODID:-//Plone.org//NONSGML plone.app.event//EN
X-WR-TIMEZONE:Europe/Rome
BEGIN:VEVENT
SUMMARY:Gli effetti delle nuove politiche fiscali e commerciali americane 
 per le imprese europee
DTSTART;TZID=Europe/Rome;VALUE=DATE-TIME:20251104T150000
DTEND;TZID=Europe/Rome;VALUE=DATE-TIME:20251104T180000
DTSTAMP;VALUE=DATE-TIME:20260421T003408Z
UID:e2416fdca9d64c0a822944dc594cb673@scienzeaziendali.unibo.it
CREATED;VALUE=DATE-TIME:20251008T090355Z
DESCRIPTION:Seminario
LAST-MODIFIED;VALUE=DATE-TIME:20251008T091829Z
URL:https://scienzeaziendali.unibo.it/it/eventi/gli-effetti-delle-nuove-po
 litiche-fiscali-e-commerciali-americane-per-le-imprese-europee
END:VEVENT
BEGIN:VTIMEZONE
TZID:Europe/Rome
X-LIC-LOCATION:Europe/Rome
BEGIN:STANDARD
DTSTART;VALUE=DATE-TIME:20251026T020000
TZNAME:CET
TZOFFSETFROM:+0200
TZOFFSETTO:+0100
END:STANDARD
END:VTIMEZONE
END:VCALENDAR
