BEGIN:VCALENDAR
VERSION:2.0
PRODID:-//Plone.org//NONSGML plone.app.event//EN
X-WR-TIMEZONE:Europe/Rome
BEGIN:VEVENT
SUMMARY:Guerra in Ucraina: Implicazioni per risorse energetiche e minerari
 e.
DTSTART;TZID=Europe/Rome;VALUE=DATE-TIME:20220318T173000
DTEND;TZID=Europe/Rome;VALUE=DATE-TIME:20220318T183000
DTSTAMP;VALUE=DATE-TIME:20260423T084001Z
UID:df55c21427f74c42a45d369660145eea@scienzeaziendali.unibo.it
CREATED;VALUE=DATE-TIME:20220318T080151Z
DESCRIPTION:Introduce la prorettrice alle Relazioni internazionali\, prof.
 ssa Raffaella Campaner\; intervengono la prof.ssa Daniela Cavalcoli\, il p
 rof. Leonardo Setti e il prof. Paolo Garofalo.
LAST-MODIFIED;VALUE=DATE-TIME:20220318T081042Z
URL:https://scienzeaziendali.unibo.it/it/eventi/guerra-in-ucraina-implicaz
 ioni-per-risorse-energetiche-e-minerarie
END:VEVENT
BEGIN:VTIMEZONE
TZID:Europe/Rome
X-LIC-LOCATION:Europe/Rome
BEGIN:STANDARD
DTSTART;VALUE=DATE-TIME:20211031T020000
TZNAME:CET
TZOFFSETFROM:+0200
TZOFFSETTO:+0100
END:STANDARD
END:VTIMEZONE
END:VCALENDAR
