BEGIN:VCALENDAR
VERSION:2.0
PRODID:-//Plone.org//NONSGML plone.app.event//EN
X-WR-TIMEZONE:Europe/Rome
BEGIN:VEVENT
SUMMARY:How to repond to this cookie?: Exploring the role of decision diff
 iculty in consumers’ privacy decisions. Semin ario del Martedì 8 Aprile
  2025
DTSTART;TZID=Europe/Rome;VALUE=DATE-TIME:20250408T130000
DTEND;TZID=Europe/Rome;VALUE=DATE-TIME:20250408T140000
DTSTAMP;VALUE=DATE-TIME:20260421T064731Z
UID:488574333d914ee98304250ab219e162@scienzeaziendali.unibo.it
CREATED;VALUE=DATE-TIME:20250408T093124Z
DESCRIPTION:Zeynep Gürhan Canlı - Professoressa alla Koç University (Sa
 rıyer/İstanbul - Turchia). Il seminario è riservato al personale del Di
 partimento di Scienze Aziendali.
LAST-MODIFIED;VALUE=DATE-TIME:20250408T100814Z
URL:https://scienzeaziendali.unibo.it/it/eventi/how-to-repond-to-this-cook
 ie-exploring-the-role-of-decision-difficulty-in-consumers-privacy-decision
 s-semin-ario-del-martedi-8-aprile-2025
END:VEVENT
BEGIN:VTIMEZONE
TZID:Europe/Rome
X-LIC-LOCATION:Europe/Rome
BEGIN:DAYLIGHT
DTSTART;VALUE=DATE-TIME:20250330T030000
TZNAME:CEST
TZOFFSETFROM:+0100
TZOFFSETTO:+0200
END:DAYLIGHT
END:VTIMEZONE
END:VCALENDAR
