BEGIN:VCALENDAR
VERSION:2.0
PRODID:-//Plone.org//NONSGML plone.app.event//EN
X-WR-TIMEZONE:Europe/Rome
BEGIN:VEVENT
SUMMARY:Imprese\, finanza e strategie: strumenti per la sostenibilità
DTSTART;TZID=Europe/Rome;VALUE=DATE-TIME:20250926T183000
DTEND;TZID=Europe/Rome;VALUE=DATE-TIME:20250926T233000
DTSTAMP;VALUE=DATE-TIME:20260421T020904Z
UID:55c7421b4b844423b00af40bbfc2a045@scienzeaziendali.unibo.it
CREATED;VALUE=DATE-TIME:20250924T115710Z
DESCRIPTION:Nell'ambito della Notte Europea dei Ricercatori 2025
LAST-MODIFIED;VALUE=DATE-TIME:20250924T120831Z
URL:https://scienzeaziendali.unibo.it/it/eventi/imprese-finanza-e-strategi
 e-strumenti-per-la-sostenibilita
END:VEVENT
BEGIN:VTIMEZONE
TZID:Europe/Rome
X-LIC-LOCATION:Europe/Rome
BEGIN:DAYLIGHT
DTSTART;VALUE=DATE-TIME:20250330T030000
TZNAME:CEST
TZOFFSETFROM:+0100
TZOFFSETTO:+0200
END:DAYLIGHT
END:VTIMEZONE
END:VCALENDAR
