BEGIN:VCALENDAR
VERSION:2.0
PRODID:-//Plone.org//NONSGML plone.app.event//EN
X-WR-TIMEZONE:Europe/Rome
BEGIN:VEVENT
SUMMARY:Inalienable Human Capital and Debt Choice: Evidence from Quasi-Exo
 genous Shocks
DTSTART;TZID=Europe/Rome;VALUE=DATE-TIME:20220609T130000
DTEND;TZID=Europe/Rome;VALUE=DATE-TIME:20220609T140000
DTSTAMP;VALUE=DATE-TIME:20260419T190142Z
UID:25593f63e5e9471abe70d27a47a9b7d4@scienzeaziendali.unibo.it
CREATED;VALUE=DATE-TIME:20220504T135816Z
DESCRIPTION:Paper presented by Sabri Boubaker\, Professor in Finance at EM
  Normandie.
LAST-MODIFIED;VALUE=DATE-TIME:20220504T135920Z
URL:https://scienzeaziendali.unibo.it/it/eventi/inalienable-human-capital-
 and-debt-choice-evidence-from-quasi-exogenous-shocks
END:VEVENT
BEGIN:VTIMEZONE
TZID:Europe/Rome
X-LIC-LOCATION:Europe/Rome
BEGIN:DAYLIGHT
DTSTART;VALUE=DATE-TIME:20220327T030000
TZNAME:CEST
TZOFFSETFROM:+0100
TZOFFSETTO:+0200
END:DAYLIGHT
END:VTIMEZONE
END:VCALENDAR
