BEGIN:VCALENDAR
VERSION:2.0
PRODID:-//Plone.org//NONSGML plone.app.event//EN
X-WR-TIMEZONE:Europe/Rome
BEGIN:VEVENT
SUMMARY:La Direttiva CSRD e la rendicontazione di sostenibilità: profili 
 di responsabilità e principi di redazione
DTSTART;TZID=Europe/Rome;VALUE=DATE-TIME:20250129T140000
DTEND;TZID=Europe/Rome;VALUE=DATE-TIME:20250129T183000
DTSTAMP;VALUE=DATE-TIME:20260421T020941Z
UID:307934e109fb47048c25095771fb24f3@scienzeaziendali.unibo.it
CREATED;VALUE=DATE-TIME:20250123T105841Z
DESCRIPTION:Serie “Bilanci work in progress”
LAST-MODIFIED;VALUE=DATE-TIME:20250123T143525Z
URL:https://scienzeaziendali.unibo.it/it/eventi/la-direttiva-csrd-e-la-ren
 dicontazione-di-sostenibilita-profili-di-responsabilita-e-principi-di-reda
 zione
END:VEVENT
BEGIN:VTIMEZONE
TZID:Europe/Rome
X-LIC-LOCATION:Europe/Rome
BEGIN:STANDARD
DTSTART;VALUE=DATE-TIME:20241027T020000
TZNAME:CET
TZOFFSETFROM:+0200
TZOFFSETTO:+0100
END:STANDARD
END:VTIMEZONE
END:VCALENDAR
