BEGIN:VCALENDAR
VERSION:2.0
PRODID:-//Plone.org//NONSGML plone.app.event//EN
X-WR-TIMEZONE:Europe/Rome
BEGIN:VEVENT
SUMMARY:Labor Unions and the Performance of the firms : A French Micro-Dat
 a Panel Analysis. Seminario del Martedì 11 Marzo 2025
DTSTART;TZID=Europe/Rome;VALUE=DATE-TIME:20250311T130000
DTEND;TZID=Europe/Rome;VALUE=DATE-TIME:20250311T140000
DTSTAMP;VALUE=DATE-TIME:20260420T041425Z
UID:9cce2dbbe4d84c089d5da7e0cd0d6dfc@scienzeaziendali.unibo.it
CREATED;VALUE=DATE-TIME:20250129T115530Z
DESCRIPTION:Fabien-Antoine Dugardin - Professore Associato di Finanza all'
 Università di Lorraine (Francia). Il seminario è riservato al personale 
 del Dipartimento di Scienze Aziendali.
LAST-MODIFIED;VALUE=DATE-TIME:20250130T104219Z
URL:https://scienzeaziendali.unibo.it/it/eventi/labor-unions-and-the-perfo
 rmance-of-the-firms-a-french-micro-data-panel-analysis-seminario-del-marte
 di-11-marzo-2025
END:VEVENT
BEGIN:VTIMEZONE
TZID:Europe/Rome
X-LIC-LOCATION:Europe/Rome
BEGIN:STANDARD
DTSTART;VALUE=DATE-TIME:20241027T020000
TZNAME:CET
TZOFFSETFROM:+0200
TZOFFSETTO:+0100
END:STANDARD
END:VTIMEZONE
END:VCALENDAR
