BEGIN:VCALENDAR
VERSION:2.0
PRODID:-//Plone.org//NONSGML plone.app.event//EN
X-WR-TIMEZONE:Europe/Rome
BEGIN:VEVENT
SUMMARY:Tax Policy Expectations and Investment - Lettura di gruppo su Cont
 abilità\, Banche e Finanza del Giovedì 14 Novembre 2024
DTSTART;TZID=Europe/Rome;VALUE=DATE-TIME:20241114T140000
DTEND;TZID=Europe/Rome;VALUE=DATE-TIME:20241114T150000
DTSTAMP;VALUE=DATE-TIME:20260421T064729Z
UID:b30f11525d7f449981aa58514b98ef4c@scienzeaziendali.unibo.it
CREATED;VALUE=DATE-TIME:20241024T135054Z
DESCRIPTION:Noemi Pecoraro - Dottoranda e Tutor Didattico del Dipartimento
  di Scienze Aziendali. La lettura di gruppo è riservata al personale del 
 Dipartimento di Scienze Aziendali.
LAST-MODIFIED;VALUE=DATE-TIME:20241024T153720Z
URL:https://scienzeaziendali.unibo.it/it/eventi/lettura-di-gruppo-su-conta
 bilita-banche-e-finanza-tax-policy-expectations-and-investment-seminario-d
 el-giovedi-14-novembre-2024
END:VEVENT
BEGIN:VTIMEZONE
TZID:Europe/Rome
X-LIC-LOCATION:Europe/Rome
BEGIN:STANDARD
DTSTART;VALUE=DATE-TIME:20241027T020000
TZNAME:CET
TZOFFSETFROM:+0200
TZOFFSETTO:+0100
END:STANDARD
END:VTIMEZONE
END:VCALENDAR
