BEGIN:VCALENDAR
VERSION:2.0
PRODID:-//Plone.org//NONSGML plone.app.event//EN
X-WR-TIMEZONE:Europe/Rome
BEGIN:VEVENT
SUMMARY:Managing Sustainability Skills and Careers: An Integrated Quantita
 tive and Qualitative Approach. Seminario del Martedì 7 Maggio 2024
DTSTART;TZID=Europe/Rome;VALUE=DATE-TIME:20240507T130000
DTEND;TZID=Europe/Rome;VALUE=DATE-TIME:20240507T140000
DTSTAMP;VALUE=DATE-TIME:20260421T083944Z
UID:b07174624b2b4a5f860d03a6b34bd795@scienzeaziendali.unibo.it
CREATED;VALUE=DATE-TIME:20240502T130940Z
DESCRIPTION:Dottor Aneil Tripathy dal Massachusetts Institute of Technolog
 y - MIT (Stati Uniti d'America). Il seminario è riservato ai membri del D
 ipartimento di Scienze Aziendali.
LAST-MODIFIED;VALUE=DATE-TIME:20240502T133758Z
URL:https://scienzeaziendali.unibo.it/it/eventi/managing-sustainability-sk
 ills-and-careers-an-integrated-quantitative-and-qualitative-approach-semin
 ario-del-martedi-7-maggio-2024
END:VEVENT
BEGIN:VTIMEZONE
TZID:Europe/Rome
X-LIC-LOCATION:Europe/Rome
BEGIN:DAYLIGHT
DTSTART;VALUE=DATE-TIME:20240331T030000
TZNAME:CEST
TZOFFSETFROM:+0100
TZOFFSETTO:+0200
END:DAYLIGHT
END:VTIMEZONE
END:VCALENDAR
