BEGIN:VCALENDAR
VERSION:2.0
PRODID:-//Plone.org//NONSGML plone.app.event//EN
X-WR-TIMEZONE:Europe/Rome
BEGIN:VEVENT
SUMMARY:Managing the Narrative: The Disclosure Choices of Firms Receiving 
 Integrated Audits and Material Weakness Opinions. Seminario del Lunedì 20
  Ottobre 2025
DTSTART;TZID=Europe/Rome;VALUE=DATE-TIME:20251020T113000
DTEND;TZID=Europe/Rome;VALUE=DATE-TIME:20251020T130000
DTSTAMP;VALUE=DATE-TIME:20260421T014717Z
UID:952d17efbc8f415187b0d221dba0879a@scienzeaziendali.unibo.it
CREATED;VALUE=DATE-TIME:20251008T114047Z
DESCRIPTION:Prof. Linda Myers - Professoressa Distinta di Contabilità all
 a Università del Tennessee (Stati Uniti d'America). Il seminario è riser
 vato al Dipartimento di Scienze Aziendali.
LAST-MODIFIED;VALUE=DATE-TIME:20251009T095351Z
URL:https://scienzeaziendali.unibo.it/it/eventi/managing-the-narrative-the
 -disclosure-choices-of-firms-receiving-integrated-audits-and-material-weak
 ness-opinions-seminario-del-lunedi-20-ottobre-2025
END:VEVENT
BEGIN:VTIMEZONE
TZID:Europe/Rome
X-LIC-LOCATION:Europe/Rome
BEGIN:DAYLIGHT
DTSTART;VALUE=DATE-TIME:20250330T030000
TZNAME:CEST
TZOFFSETFROM:+0100
TZOFFSETTO:+0200
END:DAYLIGHT
END:VTIMEZONE
END:VCALENDAR
