BEGIN:VCALENDAR
VERSION:2.0
PRODID:-//Plone.org//NONSGML plone.app.event//EN
X-WR-TIMEZONE:Europe/Rome
BEGIN:VEVENT
SUMMARY:Mitigazione e adattamento al rischio climatico: quale scenario per
  le imprese dell’Emilia-Romagna? Seminario del Giovedì 17 Aprile 2025
DTSTART;TZID=Europe/Rome;VALUE=DATE-TIME:20250417T143000
DTEND;TZID=Europe/Rome;VALUE=DATE-TIME:20250417T183000
DTSTAMP;VALUE=DATE-TIME:20260421T064808Z
UID:fa85b8d2d66c453197942881519271d1@scienzeaziendali.unibo.it
CREATED;VALUE=DATE-TIME:20250415T151203Z
DESCRIPTION:Docenti vari dell'Università di Bologna\, Rappresentanti di: 
 Regione Emilia Romagna\, Consiglieri Ordine Commercialisti ed Esperti Cont
 abili. L'evento è aperto a tutti gli interessati.
LAST-MODIFIED;VALUE=DATE-TIME:20250415T155942Z
URL:https://scienzeaziendali.unibo.it/it/eventi/mitigazione-e-adattamento-
 al-rischio-climatico-quale-scenario-per-le-imprese-dell-emilia-romagna-sem
 inario-del-giovedi-17-aprile-2025
END:VEVENT
BEGIN:VTIMEZONE
TZID:Europe/Rome
X-LIC-LOCATION:Europe/Rome
BEGIN:DAYLIGHT
DTSTART;VALUE=DATE-TIME:20250330T030000
TZNAME:CEST
TZOFFSETFROM:+0100
TZOFFSETTO:+0200
END:DAYLIGHT
END:VTIMEZONE
END:VCALENDAR
